BEGIN:VCALENDAR
VERSION:2.0
PRODID:-//Chi Neng Instituut - ECPv6.15.20//NONSGML v1.0//EN
CALSCALE:GREGORIAN
METHOD:PUBLISH
X-WR-CALNAME:Chi Neng Instituut
X-ORIGINAL-URL:https://chineng.nl
X-WR-CALDESC:Evenementen voor Chi Neng Instituut
REFRESH-INTERVAL;VALUE=DURATION:PT1H
X-Robots-Tag:noindex
X-PUBLISHED-TTL:PT1H
BEGIN:VTIMEZONE
TZID:Europe/Amsterdam
BEGIN:DAYLIGHT
TZOFFSETFROM:+0100
TZOFFSETTO:+0200
TZNAME:CEST
DTSTART:20250330T010000
END:DAYLIGHT
BEGIN:STANDARD
TZOFFSETFROM:+0200
TZOFFSETTO:+0100
TZNAME:CET
DTSTART:20251026T010000
END:STANDARD
BEGIN:DAYLIGHT
TZOFFSETFROM:+0100
TZOFFSETTO:+0200
TZNAME:CEST
DTSTART:20260329T010000
END:DAYLIGHT
BEGIN:STANDARD
TZOFFSETFROM:+0200
TZOFFSETTO:+0100
TZNAME:CET
DTSTART:20261025T010000
END:STANDARD
BEGIN:DAYLIGHT
TZOFFSETFROM:+0100
TZOFFSETTO:+0200
TZNAME:CEST
DTSTART:20270328T010000
END:DAYLIGHT
BEGIN:STANDARD
TZOFFSETFROM:+0200
TZOFFSETTO:+0100
TZNAME:CET
DTSTART:20271031T010000
END:STANDARD
END:VTIMEZONE
BEGIN:VEVENT
DTSTART;TZID=Europe/Amsterdam:20260829T100000
DTEND;TZID=Europe/Amsterdam:20260830T170000
DTSTAMP:20260424T135158
CREATED:20190206T081821Z
LAST-MODIFIED:20260228T185658Z
UID:10000718-1787997600-1788109200@chineng.nl
SUMMARY:De Essentie van Chi Neng Qigong
DESCRIPTION:Boeken\nDe theorie van Chi Neng Qigong toepasbaar gemaakt\nPatricia van Walstijn zal uitgebreid ingaan op de unieke holistische theorie van Dr. Pang Ming en de negen kenmerken van Chi Neng Qigong. An bod komen Hunyuan qi\, Primeval qi\, Yiyuanti\, Daode\, de link met de Traditionele Chinese Geneeswijzen en het hele fundament van Chi Neng Qigong. Je krijgt stukken theorie in meditatieve staat\, tijdens de training en in interactie met elkaar. \nWaar mogelijk zullen we de verbinding leggen tussen de praktische aspecten van het instructeurschap en de theoretische achtergronden van Chi Neng Qigong. \nVoor wie: iedereen die een Module Level 1 heeft gevolgd. \nTelt mee voor de opleiding tot Level 1 instructeur.
URL:https://chineng.nl/event/tweedaagse-workshop-de-essentie/
LOCATION:Chi Neng Instituut\, Bakenbergseweg 72\, ARNHEM\, Nederland
CATEGORIES:Level 1
ATTACH;FMTTYPE=image/jpeg:https://chineng.nl/wp-content/uploads/IMG_1019-scaled-e1769627003841.jpg
END:VEVENT
END:VCALENDAR