BEGIN:VCALENDAR
VERSION:2.0
PRODID:-//Chi Neng Instituut - ECPv6.15.20//NONSGML v1.0//EN
CALSCALE:GREGORIAN
METHOD:PUBLISH
X-WR-CALNAME:Chi Neng Instituut
X-ORIGINAL-URL:https://chineng.nl
X-WR-CALDESC:Evenementen voor Chi Neng Instituut
REFRESH-INTERVAL;VALUE=DURATION:PT1H
X-Robots-Tag:noindex
X-PUBLISHED-TTL:PT1H
BEGIN:VTIMEZONE
TZID:Europe/Amsterdam
BEGIN:DAYLIGHT
TZOFFSETFROM:+0100
TZOFFSETTO:+0200
TZNAME:CEST
DTSTART:20250330T010000
END:DAYLIGHT
BEGIN:STANDARD
TZOFFSETFROM:+0200
TZOFFSETTO:+0100
TZNAME:CET
DTSTART:20251026T010000
END:STANDARD
BEGIN:DAYLIGHT
TZOFFSETFROM:+0100
TZOFFSETTO:+0200
TZNAME:CEST
DTSTART:20260329T010000
END:DAYLIGHT
BEGIN:STANDARD
TZOFFSETFROM:+0200
TZOFFSETTO:+0100
TZNAME:CET
DTSTART:20261025T010000
END:STANDARD
BEGIN:DAYLIGHT
TZOFFSETFROM:+0100
TZOFFSETTO:+0200
TZNAME:CEST
DTSTART:20270328T010000
END:DAYLIGHT
BEGIN:STANDARD
TZOFFSETFROM:+0200
TZOFFSETTO:+0100
TZNAME:CET
DTSTART:20271031T010000
END:STANDARD
BEGIN:DAYLIGHT
TZOFFSETFROM:+0100
TZOFFSETTO:+0200
TZNAME:CEST
DTSTART:20280326T010000
END:DAYLIGHT
BEGIN:STANDARD
TZOFFSETFROM:+0200
TZOFFSETTO:+0100
TZNAME:CET
DTSTART:20281029T010000
END:STANDARD
END:VTIMEZONE
BEGIN:VEVENT
DTSTART;TZID=Europe/Amsterdam:20260425T100000
DTEND;TZID=Europe/Amsterdam:20260425T170000
DTSTAMP:20260424T162901
CREATED:20171116T231959Z
LAST-MODIFIED:20260228T191350Z
UID:10000694-1777111200-1777136400@chineng.nl
SUMMARY:Trainingsdag Level 2
DESCRIPTION:Boeken\nDe Body & Mind oefening\nFocus en voelen staat deze dag centraal. Het accent ligt deze dag op het aanleren en verdiepen van de Body & Mind oefening. Je gaat de tien onderdelen van de oefening langzaam en diep trainen. Met de Body & Mind activeer je jouw interne qi\, die je vervolgens dieper in je lichaam brengt. Je brengt qi in je gewrichten en meridianen en uiteindelijk ‘doordrenkt’ de qi ook je bindweefsel. \nLangzaam ga je de qi in je lichaam beheersen en voel je dat je soepeler en krachtiger wordt. Lichaam en geest werken samen\, je vitaliteit neemt toe en je gezondheid wordt steeds beter. Tijdens de trainingsdagen wordt weinig gepraat en veel ervaren en ga je na afloop met een gevoel kracht in lichaam en geest weer huiswaarts. \nVoor wie  iedereen die al bekend is met Chi Neng Qigong \nTelt mee voor de opleiding tot Level 2 instructeur.
URL:https://chineng.nl/event/body-mind-workshop/2026-04-25/
LOCATION:Arnhem\, Bakenbergseweg 72\, Arnhem\, 6814 MK\, Nederland
CATEGORIES:Level 2
ATTACH;FMTTYPE=image/jpeg:https://chineng.nl/wp-content/uploads/China-courtyard-nr.-6-scaled.jpg
GEO:51.9916618;5.8896605
X-APPLE-STRUCTURED-LOCATION;VALUE=URI;X-ADDRESS=Arnhem Bakenbergseweg 72 Arnhem 6814 MK Nederland;X-APPLE-RADIUS=500;X-TITLE=Bakenbergseweg 72:geo:5.8896605,51.9916618
END:VEVENT
BEGIN:VEVENT
DTSTART;TZID=Europe/Amsterdam:20261011T100000
DTEND;TZID=Europe/Amsterdam:20261011T170000
DTSTAMP:20260424T162901
CREATED:20171116T231959Z
LAST-MODIFIED:20260228T191350Z
UID:10000822-1791712800-1791738000@chineng.nl
SUMMARY:Trainingsdag Level 2
DESCRIPTION:Boeken\nDe Body & Mind oefening\nFocus en voelen staat deze dag centraal. Het accent ligt deze dag op het aanleren en verdiepen van de Body & Mind oefening. Je gaat de tien onderdelen van de oefening langzaam en diep trainen. Met de Body & Mind activeer je jouw interne qi\, die je vervolgens dieper in je lichaam brengt. Je brengt qi in je gewrichten en meridianen en uiteindelijk ‘doordrenkt’ de qi ook je bindweefsel. \nLangzaam ga je de qi in je lichaam beheersen en voel je dat je soepeler en krachtiger wordt. Lichaam en geest werken samen\, je vitaliteit neemt toe en je gezondheid wordt steeds beter. Tijdens de trainingsdagen wordt weinig gepraat en veel ervaren en ga je na afloop met een gevoel kracht in lichaam en geest weer huiswaarts. \nVoor wie  iedereen die al bekend is met Chi Neng Qigong \nTelt mee voor de opleiding tot Level 2 instructeur.
URL:https://chineng.nl/event/body-mind-workshop/2026-10-11/
LOCATION:Arnhem\, Bakenbergseweg 72\, Arnhem\, 6814 MK\, Nederland
CATEGORIES:Level 2
ATTACH;FMTTYPE=image/jpeg:https://chineng.nl/wp-content/uploads/China-courtyard-nr.-6-scaled.jpg
GEO:51.9916618;5.8896605
X-APPLE-STRUCTURED-LOCATION;VALUE=URI;X-ADDRESS=Arnhem Bakenbergseweg 72 Arnhem 6814 MK Nederland;X-APPLE-RADIUS=500;X-TITLE=Bakenbergseweg 72:geo:5.8896605,51.9916618
END:VEVENT
BEGIN:VEVENT
DTSTART;TZID=Europe/Amsterdam:20270424T100000
DTEND;TZID=Europe/Amsterdam:20270424T170000
DTSTAMP:20260424T162901
CREATED:20171116T231959Z
LAST-MODIFIED:20260228T191350Z
UID:10000875-1808560800-1808586000@chineng.nl
SUMMARY:Trainingsdag Level 2
DESCRIPTION:Boeken\nDe Body & Mind oefening\nFocus en voelen staat deze dag centraal. Het accent ligt deze dag op het aanleren en verdiepen van de Body & Mind oefening. Je gaat de tien onderdelen van de oefening langzaam en diep trainen. Met de Body & Mind activeer je jouw interne qi\, die je vervolgens dieper in je lichaam brengt. Je brengt qi in je gewrichten en meridianen en uiteindelijk ‘doordrenkt’ de qi ook je bindweefsel. \nLangzaam ga je de qi in je lichaam beheersen en voel je dat je soepeler en krachtiger wordt. Lichaam en geest werken samen\, je vitaliteit neemt toe en je gezondheid wordt steeds beter. Tijdens de trainingsdagen wordt weinig gepraat en veel ervaren en ga je na afloop met een gevoel kracht in lichaam en geest weer huiswaarts. \nVoor wie  iedereen die al bekend is met Chi Neng Qigong \nTelt mee voor de opleiding tot Level 2 instructeur.
URL:https://chineng.nl/event/body-mind-workshop/2027-04-24/
LOCATION:Arnhem\, Bakenbergseweg 72\, Arnhem\, 6814 MK\, Nederland
CATEGORIES:Level 2
ATTACH;FMTTYPE=image/jpeg:https://chineng.nl/wp-content/uploads/China-courtyard-nr.-6-scaled.jpg
GEO:51.9916618;5.8896605
X-APPLE-STRUCTURED-LOCATION;VALUE=URI;X-ADDRESS=Arnhem Bakenbergseweg 72 Arnhem 6814 MK Nederland;X-APPLE-RADIUS=500;X-TITLE=Bakenbergseweg 72:geo:5.8896605,51.9916618
END:VEVENT
BEGIN:VEVENT
DTSTART;TZID=Europe/Amsterdam:20271009T100000
DTEND;TZID=Europe/Amsterdam:20271009T170000
DTSTAMP:20260424T162901
CREATED:20171116T231959Z
LAST-MODIFIED:20260228T191350Z
UID:10001190-1823076000-1823101200@chineng.nl
SUMMARY:Trainingsdag Level 2
DESCRIPTION:Boeken\nDe Body & Mind oefening\nFocus en voelen staat deze dag centraal. Het accent ligt deze dag op het aanleren en verdiepen van de Body & Mind oefening. Je gaat de tien onderdelen van de oefening langzaam en diep trainen. Met de Body & Mind activeer je jouw interne qi\, die je vervolgens dieper in je lichaam brengt. Je brengt qi in je gewrichten en meridianen en uiteindelijk ‘doordrenkt’ de qi ook je bindweefsel. \nLangzaam ga je de qi in je lichaam beheersen en voel je dat je soepeler en krachtiger wordt. Lichaam en geest werken samen\, je vitaliteit neemt toe en je gezondheid wordt steeds beter. Tijdens de trainingsdagen wordt weinig gepraat en veel ervaren en ga je na afloop met een gevoel kracht in lichaam en geest weer huiswaarts. \nVoor wie  iedereen die al bekend is met Chi Neng Qigong \nTelt mee voor de opleiding tot Level 2 instructeur.
URL:https://chineng.nl/event/body-mind-workshop/2027-10-09/
LOCATION:Arnhem\, Bakenbergseweg 72\, Arnhem\, 6814 MK\, Nederland
CATEGORIES:Level 2
ATTACH;FMTTYPE=image/jpeg:https://chineng.nl/wp-content/uploads/China-courtyard-nr.-6-scaled.jpg
GEO:51.9916618;5.8896605
X-APPLE-STRUCTURED-LOCATION;VALUE=URI;X-ADDRESS=Arnhem Bakenbergseweg 72 Arnhem 6814 MK Nederland;X-APPLE-RADIUS=500;X-TITLE=Bakenbergseweg 72:geo:5.8896605,51.9916618
END:VEVENT
END:VCALENDAR