BEGIN:VCALENDAR
VERSION:2.0
PRODID:-//Chi Neng Instituut - ECPv6.15.20//NONSGML v1.0//EN
CALSCALE:GREGORIAN
METHOD:PUBLISH
X-ORIGINAL-URL:https://chineng.nl
X-WR-CALDESC:Evenementen voor Chi Neng Instituut
REFRESH-INTERVAL;VALUE=DURATION:PT1H
X-Robots-Tag:noindex
X-PUBLISHED-TTL:PT1H
BEGIN:VTIMEZONE
TZID:Europe/Amsterdam
BEGIN:DAYLIGHT
TZOFFSETFROM:+0100
TZOFFSETTO:+0200
TZNAME:CEST
DTSTART:20260329T010000
END:DAYLIGHT
BEGIN:STANDARD
TZOFFSETFROM:+0200
TZOFFSETTO:+0100
TZNAME:CET
DTSTART:20261025T010000
END:STANDARD
BEGIN:DAYLIGHT
TZOFFSETFROM:+0100
TZOFFSETTO:+0200
TZNAME:CEST
DTSTART:20270328T010000
END:DAYLIGHT
BEGIN:STANDARD
TZOFFSETFROM:+0200
TZOFFSETTO:+0100
TZNAME:CET
DTSTART:20271031T010000
END:STANDARD
BEGIN:DAYLIGHT
TZOFFSETFROM:+0100
TZOFFSETTO:+0200
TZNAME:CEST
DTSTART:20280326T010000
END:DAYLIGHT
BEGIN:STANDARD
TZOFFSETFROM:+0200
TZOFFSETTO:+0100
TZNAME:CET
DTSTART:20281029T010000
END:STANDARD
END:VTIMEZONE
BEGIN:VEVENT
DTSTART;TZID=Europe/Amsterdam:20270110T100000
DTEND;TZID=Europe/Amsterdam:20270110T160000
DTSTAMP:20260424T180920
CREATED:20250528T123722Z
LAST-MODIFIED:20260127T153019Z
UID:10000833-1799575200-1799596800@chineng.nl
SUMMARY:Teacher Training met Teacher Li Hongshi
DESCRIPTION:Boeken\nDeze dag is niet alleen waardevol voor aankomende en bestaande instructeurs\, maar ook voor iedereen die met mensen werkt\, communiceert\, begeleidt of inspireert. En eigenlijk… voor iedereen die een positieve bijdrage wil leveren aan zijn omgeving en de wereld.
URL:https://chineng.nl/event/teacher-training-met-teacher-li-hongshi/
LOCATION:Chi Neng Instituut\, Bakenbergseweg 72\, ARNHEM\, Nederland
CATEGORIES:Level 1,Specialisaties
ATTACH;FMTTYPE=image/png:https://chineng.nl/wp-content/uploads/TEACHER-LI_FOTO2.png
END:VEVENT
END:VCALENDAR