BEGIN:VCALENDAR
VERSION:2.0
PRODID:-//Chi Neng Instituut - ECPv6.15.20//NONSGML v1.0//EN
CALSCALE:GREGORIAN
METHOD:PUBLISH
X-ORIGINAL-URL:https://chineng.nl
X-WR-CALDESC:Evenementen voor Chi Neng Instituut
REFRESH-INTERVAL;VALUE=DURATION:PT1H
X-Robots-Tag:noindex
X-PUBLISHED-TTL:PT1H
BEGIN:VTIMEZONE
TZID:Europe/Amsterdam
BEGIN:DAYLIGHT
TZOFFSETFROM:+0100
TZOFFSETTO:+0200
TZNAME:CEST
DTSTART:20250330T010000
END:DAYLIGHT
BEGIN:STANDARD
TZOFFSETFROM:+0200
TZOFFSETTO:+0100
TZNAME:CET
DTSTART:20251026T010000
END:STANDARD
BEGIN:DAYLIGHT
TZOFFSETFROM:+0100
TZOFFSETTO:+0200
TZNAME:CEST
DTSTART:20260329T010000
END:DAYLIGHT
BEGIN:STANDARD
TZOFFSETFROM:+0200
TZOFFSETTO:+0100
TZNAME:CET
DTSTART:20261025T010000
END:STANDARD
BEGIN:DAYLIGHT
TZOFFSETFROM:+0100
TZOFFSETTO:+0200
TZNAME:CEST
DTSTART:20270328T010000
END:DAYLIGHT
BEGIN:STANDARD
TZOFFSETFROM:+0200
TZOFFSETTO:+0100
TZNAME:CET
DTSTART:20271031T010000
END:STANDARD
END:VTIMEZONE
BEGIN:VEVENT
DTSTART;TZID=Europe/Amsterdam:20260329T100000
DTEND;TZID=Europe/Amsterdam:20260329T160000
DTSTAMP:20260419T174113
CREATED:20180418T135556Z
LAST-MODIFIED:20260227T193130Z
UID:10000872-1774778400-1774800000@chineng.nl
SUMMARY:Introductiedag met Patricia
DESCRIPTION:Boeken\nInhoud van de dag \nJe voelt de krachtige werking van Chi Neng Qigong\, je krijgt inzicht in de theorie én je krijgt tools om zelf thuis te oefenen. Omdat het zo effectief is voel je al met 15 min. per dag meer focus en rust in je hoofd. Dat is mooi voor studie en werk\, maar ook om jouw toekomst vanuit rust en stabiliteit vorm te kunnen geven. \nJe maakt kennis met de volgende oefeningen: \n\n\n\n\n\nde ‘Warming up’\, die je lichaam voorbereidt op de oefeningen\nde ‘Lift Qi Up’\, die de energie door je hele lichaam laat stromen\nde ‘3-CM’\, een staande meditatieve oefening die je krachtig maakt\nde ‘Wall squats\, een actieve oefening die je hoofd rustig maakt\n\n\n\n\n\nQigong vergroot je kracht\, flexibiliteit en concentratie. Het brengt je in balans en versterkt je immuunsysteem. En verder helpt het:\nje lichaamshouding te verbeteren;\nje stressniveau te verlagen;\nblijer te worden… etc. \nPrijs € 129\, incl. download met vier oefeningen\, lunch\, koffie en thee.\nTijd van 10:00 tot 16:00.\nLocatie Arnhem of online (€ 109) \nDeze dag telt ook mee voor de opleiding tot Level 1 instructeur
URL:https://chineng.nl/event/introductiedag-level-1/2026-03-29/
LOCATION:Chi Neng Instituut\, Bakenbergseweg 72\, ARNHEM\, Nederland
CATEGORIES:Level 1
ATTACH;FMTTYPE=image/png:https://chineng.nl/wp-content/uploads/Schermafbeelding-2020-01-07-om-09.03.20.png
END:VEVENT
END:VCALENDAR