BEGIN:VCALENDAR
VERSION:2.0
PRODID:-//Chi Neng Instituut - ECPv6.15.20//NONSGML v1.0//EN
CALSCALE:GREGORIAN
METHOD:PUBLISH
X-ORIGINAL-URL:https://chineng.nl
X-WR-CALDESC:Evenementen voor Chi Neng Instituut
REFRESH-INTERVAL;VALUE=DURATION:PT1H
X-Robots-Tag:noindex
X-PUBLISHED-TTL:PT1H
BEGIN:VTIMEZONE
TZID:Europe/Amsterdam
BEGIN:DAYLIGHT
TZOFFSETFROM:+0100
TZOFFSETTO:+0200
TZNAME:CEST
DTSTART:20250330T010000
END:DAYLIGHT
BEGIN:STANDARD
TZOFFSETFROM:+0200
TZOFFSETTO:+0100
TZNAME:CET
DTSTART:20251026T010000
END:STANDARD
BEGIN:DAYLIGHT
TZOFFSETFROM:+0100
TZOFFSETTO:+0200
TZNAME:CEST
DTSTART:20260329T010000
END:DAYLIGHT
BEGIN:STANDARD
TZOFFSETFROM:+0200
TZOFFSETTO:+0100
TZNAME:CET
DTSTART:20261025T010000
END:STANDARD
BEGIN:DAYLIGHT
TZOFFSETFROM:+0100
TZOFFSETTO:+0200
TZNAME:CEST
DTSTART:20270328T010000
END:DAYLIGHT
BEGIN:STANDARD
TZOFFSETFROM:+0200
TZOFFSETTO:+0100
TZNAME:CET
DTSTART:20271031T010000
END:STANDARD
END:VTIMEZONE
BEGIN:VEVENT
DTSTART;TZID=Europe/Amsterdam:20260515T160000
DTEND;TZID=Europe/Amsterdam:20260515T170000
DTSTAMP:20260421T135220
CREATED:20241201T094404Z
LAST-MODIFIED:20260310T173012Z
UID:10001201-1778860800-1778864400@chineng.nl
SUMMARY:ONLINE CNQ sessie met Patricia
DESCRIPTION:Boeken\nEen uur trainen: een combinatie met onderdelen van alle oefeningen\nElke sessie zal anders zijn\, afhankelijk van het moment en de deelnemers. Patricia stemt af op de groep en daaruit vloeit een sessie die bestaat uit verschillende combinaties van oefeningen en onderdelen. We verlangzamen\, en door de verbinding met de training\, de natuur en elkaar zal de training diep doorwerken. Het qiveld dat door de training ontstaat is krachtig en zorgt ervoor dat je voorzichtig je grenzen kunt verleggen. Dat is de toegevoegde waarde van samen trainen onder begeleiding van een bevlogen docent. \nJe wordt uitgenodigd om diep naar binnen te gaan om van daaruit je beoefening te verdiepen en je zult geïnspireerd worden om thuis zelf verder te trainen. \nVoor wie de sessies zijn toegankelijk voor iedereen; beginners en gevorderden.\nTijd check bij de datum.\nHoe na inschrijving ontvang je de inloggegevens om mee te doen.
URL:https://chineng.nl/event/online-sessie-2/2026-05-15/
LOCATION:Bij jou thuis\, Nederland
CATEGORIES:ONLINE sessie met Patricia
ATTACH;FMTTYPE=image/jpeg:https://chineng.nl/wp-content/uploads/image-2-scaled-e1657527900920.jpg
GEO:51.9905229;5.8902011
END:VEVENT
BEGIN:VEVENT
DTSTART;TZID=Europe/Amsterdam:20260627T170000
DTEND;TZID=Europe/Amsterdam:20260627T180000
DTSTAMP:20260421T135220
CREATED:20241201T094404Z
LAST-MODIFIED:20260310T173012Z
UID:10001203-1782579600-1782583200@chineng.nl
SUMMARY:ONLINE CNQ sessie met Patricia
DESCRIPTION:Boeken\nEen uur trainen: een combinatie met onderdelen van alle oefeningen\nElke sessie zal anders zijn\, afhankelijk van het moment en de deelnemers. Patricia stemt af op de groep en daaruit vloeit een sessie die bestaat uit verschillende combinaties van oefeningen en onderdelen. We verlangzamen\, en door de verbinding met de training\, de natuur en elkaar zal de training diep doorwerken. Het qiveld dat door de training ontstaat is krachtig en zorgt ervoor dat je voorzichtig je grenzen kunt verleggen. Dat is de toegevoegde waarde van samen trainen onder begeleiding van een bevlogen docent. \nJe wordt uitgenodigd om diep naar binnen te gaan om van daaruit je beoefening te verdiepen en je zult geïnspireerd worden om thuis zelf verder te trainen. \nVoor wie de sessies zijn toegankelijk voor iedereen; beginners en gevorderden.\nTijd check bij de datum.\nHoe na inschrijving ontvang je de inloggegevens om mee te doen.
URL:https://chineng.nl/event/online-sessie-2/2026-06-27/
LOCATION:Bij jou thuis\, Nederland
CATEGORIES:ONLINE sessie met Patricia
ATTACH;FMTTYPE=image/jpeg:https://chineng.nl/wp-content/uploads/image-2-scaled-e1657527900920.jpg
GEO:51.9905229;5.8902011
END:VEVENT
BEGIN:VEVENT
DTSTART;TZID=Europe/Amsterdam:20260729T200000
DTEND;TZID=Europe/Amsterdam:20260729T210000
DTSTAMP:20260421T135220
CREATED:20241201T094404Z
LAST-MODIFIED:20260310T173012Z
UID:10001204-1785355200-1785358800@chineng.nl
SUMMARY:ONLINE CNQ sessie met Patricia
DESCRIPTION:Boeken\nEen uur trainen: een combinatie met onderdelen van alle oefeningen\nElke sessie zal anders zijn\, afhankelijk van het moment en de deelnemers. Patricia stemt af op de groep en daaruit vloeit een sessie die bestaat uit verschillende combinaties van oefeningen en onderdelen. We verlangzamen\, en door de verbinding met de training\, de natuur en elkaar zal de training diep doorwerken. Het qiveld dat door de training ontstaat is krachtig en zorgt ervoor dat je voorzichtig je grenzen kunt verleggen. Dat is de toegevoegde waarde van samen trainen onder begeleiding van een bevlogen docent. \nJe wordt uitgenodigd om diep naar binnen te gaan om van daaruit je beoefening te verdiepen en je zult geïnspireerd worden om thuis zelf verder te trainen. \nVoor wie de sessies zijn toegankelijk voor iedereen; beginners en gevorderden.\nTijd check bij de datum.\nHoe na inschrijving ontvang je de inloggegevens om mee te doen.
URL:https://chineng.nl/event/online-sessie-2/2026-07-29/
LOCATION:Bij jou thuis\, Nederland
CATEGORIES:ONLINE sessie met Patricia
ATTACH;FMTTYPE=image/jpeg:https://chineng.nl/wp-content/uploads/image-2-scaled-e1657527900920.jpg
GEO:51.9905229;5.8902011
END:VEVENT
END:VCALENDAR